BEGIN:VCALENDAR
VERSION:2.0
PRODID:icalendar-ruby
CALSCALE:GREGORIAN
METHOD:PUBLISH
BEGIN:VEVENT
DTSTAMP:20260422T114853Z
UID:102-534487@bethelccnj.org
DTSTART:20260515T223000Z
DTEND:20260516T003000Z
CLASS:PUBLIC
CREATED:20260421T111556
DESCRIPTION:Men of all ages are invited to a cookout behind the parsonage o
 n Friday\, May 15th at 6:30pm. Our brothers from FCA will also be joining 
 us for this special time of food and fellowship.
LAST-MODIFIED:20260421T111556
LOCATION:
SUMMARY:Men's Fellowship
URL;VALUE=URI:https://www.bethelccnj.org/events/mens-fellowship--102/2026-0
 5-15
ATTACH;FILENAME=Mens Fellowship May 2026.png;FMTTYPE=image/png:https://dq5p
 wpg1q8ru0.cloudfront.net/2026/04/21/15/15/55/18dd0bdf-8313-4361-95b2-56100
 f2ddac9/Mens%20Fellowship%20May%202026.png
END:VEVENT
END:VCALENDAR
