BEGIN:VCALENDAR
VERSION:2.0
PRODID:icalendar-ruby
CALSCALE:GREGORIAN
METHOD:PUBLISH
BEGIN:VEVENT
DTSTAMP:20260422T115556Z
UID:103-534490@bethelccnj.org
DTSTART:20260516T150000Z
DTEND:20260516T170000Z
CLASS:PUBLIC
CREATED:20260421T114813
DESCRIPTION:All ladies are invited for sweet fellowship around a cut of tea
  on Saturday\, \nMay 16th from 11am to 1pm. Please enter at the Oak Avenu
 e entrance and come down the stairs. 
LAST-MODIFIED:20260421T114813
LOCATION:
SUMMARY:Ladies' Tea
URL;VALUE=URI:https://www.bethelccnj.org/events/ladies-tea--103/2026-05-16
ATTACH;FILENAME=Ladies Tea May 2026.png;FMTTYPE=image/png:https://dq5pwpg1q
 8ru0.cloudfront.net/2026/04/21/15/17/48/3fcaf2a1-ce17-4e63-9e44-8e51496b02
 a3/Ladies%20Tea%20May%202026.png
END:VEVENT
END:VCALENDAR
