BEGIN:VCALENDAR
VERSION:2.0
PRODID:icalendar-ruby
CALSCALE:GREGORIAN
METHOD:PUBLISH
BEGIN:VEVENT
DTSTAMP:20260422T132832Z
UID:104-534489@bethelccnj.org
DTSTART:20260530T120000Z
DTEND:20260530T160000Z
CLASS:PUBLIC
CREATED:20260421T112018
DESCRIPTION:On May 30th we will be cleaning and fixing up things all around
  the church property. We will begin at 8:00am. Please join us for a great 
 day of serving alongside one another and taking care of the space God has 
 given us! Please let us know you'll be joining by signing up in the foyer.
   
LAST-MODIFIED:20260421T112018
LOCATION:
SUMMARY:Church Work Day
URL;VALUE=URI:https://www.bethelccnj.org/events/church-work-day--104/2026-0
 5-30
ATTACH;FILENAME=Church Work Day May 2026.png;FMTTYPE=image/png:https://dq5p
 wpg1q8ru0.cloudfront.net/2026/04/21/15/20/18/c996e75d-2079-4c02-b9ed-357d8
 6add1ce/Church%20Work%20Day%20May%202026.png
END:VEVENT
END:VCALENDAR
